BEGIN:VCALENDAR
VERSION:2.0
PRODID:-//Plone.org//NONSGML plone.app.event//EN
X-WR-TIMEZONE:America/Buenos_Aires
BEGIN:VEVENT
SUMMARY:Oficina sobre Gênero\, Diversidade e Inclusão no Campus Arandu
DTSTART;VALUE=DATE:20250219
DTEND;VALUE=DATE:20250221
DTSTAMP;VALUE=DATE-TIME:20260423T062640Z
UID:99f1d6a9c6fb4496abe901e9c2d696db@portal.unila.edu.br
CREATED;VALUE=DATE-TIME:20250205T201723Z
DESCRIPTION:Comunidade acadêmica pode se inscrever até o dia 11 de fever
 eiro
LAST-MODIFIED;VALUE=DATE-TIME:20250205T222626Z
LOCATION:UNILA
URL:https://portal.unila.edu.br/eventos/oficina-sobre-genero-diversidade-e
 -inclusao-no-campus-arandu
END:VEVENT
END:VCALENDAR
