BEGIN:VCALENDAR
VERSION:2.0
PRODID:-//Plone.org//NONSGML plone.app.event//EN
X-WR-TIMEZONE:America/Buenos_Aires
BEGIN:VEVENT
SUMMARY:Oficina: Saúde para migrantes
DTSTART;TZID=America/Buenos_Aires;VALUE=DATE-TIME:20241026T160000
DTSTAMP;VALUE=DATE-TIME:20260424T083608Z
UID:fdc7de5f255b441f9d89b2bd2e1c4f40@portal.unila.edu.br
CREATED;VALUE=DATE-TIME:20241021T232919Z
DESCRIPTION:Projeto de extensão organiza oficina sobre saúde e migraçã
 o no dia 26 de outubro. Aberta a toda a comunidade\, a atividade é voltad
 a\, em especial\, à população migrante\, refugiada e apátrida.
LAST-MODIFIED;VALUE=DATE-TIME:20241021T232924Z
LOCATION:UNILA-Campus Integração - Sala 001
URL:https://portal.unila.edu.br/eventos/oficina-saude-para-migrantes
END:VEVENT
BEGIN:VTIMEZONE
TZID:America/Buenos_Aires
X-LIC-LOCATION:America/Buenos_Aires
BEGIN:STANDARD
DTSTART;VALUE=DATE-TIME:20090314T230000
TZNAME:ART
TZOFFSETFROM:-0200
TZOFFSETTO:-0300
END:STANDARD
END:VTIMEZONE
END:VCALENDAR
