BEGIN:VCALENDAR
VERSION:2.0
PRODID:-//Plone.org//NONSGML plone.app.event//EN
X-WR-TIMEZONE:America/Buenos_Aires
BEGIN:VEVENT
SUMMARY:Oficina Kilombo como Prática para Transgredir
DTSTART;TZID=America/Buenos_Aires;VALUE=DATE-TIME:20241010T100000
DTSTAMP;VALUE=DATE-TIME:20260424T084307Z
UID:7c5a7ed8ffcb4f2caa43121e368da01a@portal.unila.edu.br
CREATED;VALUE=DATE-TIME:20241003T123118Z
DESCRIPTION:Oficina “Kilombo como Prática para Transgredir” ocorre na
  próxima quinta-feira (10)\, no Campus Integração. Atividade faz parte 
 da Campanha OcupaTrans
LAST-MODIFIED;VALUE=DATE-TIME:20241003T123609Z
URL:https://portal.unila.edu.br/eventos/oficina-kilombo-como-pratica-para-
 transgredir
END:VEVENT
BEGIN:VTIMEZONE
TZID:America/Buenos_Aires
X-LIC-LOCATION:America/Buenos_Aires
BEGIN:STANDARD
DTSTART;VALUE=DATE-TIME:20090314T230000
TZNAME:ART
TZOFFSETFROM:-0200
TZOFFSETTO:-0300
END:STANDARD
END:VTIMEZONE
END:VCALENDAR
