BEGIN:VCALENDAR
VERSION:2.0
PRODID:-//Plone.org//NONSGML plone.app.event//EN
X-WR-TIMEZONE:America/Buenos_Aires
BEGIN:VEVENT
SUMMARY:Oficina Ideathon
DTSTART;TZID=America/Buenos_Aires;VALUE=DATE-TIME:20231020T080000
DTEND;TZID=America/Buenos_Aires;VALUE=DATE-TIME:20231020T120000
DTSTAMP;VALUE=DATE-TIME:20260422T143104Z
UID:57f6f48b2b7542bbb1fac47bdc91e34a@portal.unila.edu.br
CREATED;VALUE=DATE-TIME:20231016T112517Z
DESCRIPTION:NIT-UNILA e Sebrae/PR ofertam\, durante a 5ª SIEPE\, uma ativ
 idade de capacitação\, com dinâmicas que fomentam uma visão empreended
 ora\, inovadora e transversal.
LAST-MODIFIED;VALUE=DATE-TIME:20231016T112524Z
LOCATION:UNILA-Jardim Universitário - Sala C-215
URL:https://portal.unila.edu.br/eventos/oficina-ideathon
END:VEVENT
BEGIN:VTIMEZONE
TZID:America/Buenos_Aires
X-LIC-LOCATION:America/Buenos_Aires
BEGIN:STANDARD
DTSTART;VALUE=DATE-TIME:20090314T230000
TZNAME:ART
TZOFFSETFROM:-0200
TZOFFSETTO:-0300
END:STANDARD
END:VTIMEZONE
END:VCALENDAR
