BEGIN:VCALENDAR
VERSION:2.0
PRODID:-//Plone.org//NONSGML plone.app.event//EN
X-WR-TIMEZONE:America/Buenos_Aires
BEGIN:VEVENT
SUMMARY:Oficina - fisiologia da voz e a respiração da técnica vocal esp
 anhola
DTSTART;TZID=America/Buenos_Aires;VALUE=DATE-TIME:20251031T093000
DTEND;TZID=America/Buenos_Aires;VALUE=DATE-TIME:20251031T113000
DTSTAMP;VALUE=DATE-TIME:20260424T010701Z
UID:c547a986077a46fa9ae45a7547190bdd@portal.unila.edu.br
CREATED;VALUE=DATE-TIME:20251029T145449Z
DESCRIPTION:A oficina “Aspectos de fisiologia da voz e a respiração da
  técnica vocal espanhola na recuperação de distúrbios respiratórios
 ” será no dia 31 de outubro\, às 9h30\, no Jardim Universitário.
LAST-MODIFIED;VALUE=DATE-TIME:20251029T152704Z
LOCATION:UNILA - Jardim Universitário
URL:https://portal.unila.edu.br/eventos/oficina-fisiologia-da-voz-e-a-resp
 iracao-da-tecnica-vocal-espanhola
END:VEVENT
BEGIN:VTIMEZONE
TZID:America/Buenos_Aires
X-LIC-LOCATION:America/Buenos_Aires
BEGIN:STANDARD
DTSTART;VALUE=DATE-TIME:20090314T230000
TZNAME:ART
TZOFFSETFROM:-0200
TZOFFSETTO:-0300
END:STANDARD
END:VTIMEZONE
END:VCALENDAR
