BEGIN:VCALENDAR
VERSION:2.0
PRODID:-//Plone.org//NONSGML plone.app.event//EN
X-WR-TIMEZONE:America/Buenos_Aires
BEGIN:VEVENT
SUMMARY:Oficina "Explorando Modelos de Hablantes: reconocimiento\, distrib
 ución y participación en la UNILA"
DTSTART;TZID=America/Buenos_Aires;VALUE=DATE-TIME:20241210T160000
DTSTAMP;VALUE=DATE-TIME:20260422T160349Z
UID:498a1c671b744945ba30d1a0cc00e131@portal.unila.edu.br
CREATED;VALUE=DATE-TIME:20241206T143104Z
DESCRIPTION:O evento marca o encerramento das atividades do Núcleo Interd
 isciplinar de Estudos da Língua(gem) e Interculturalidade (NIELI) em 2024
LAST-MODIFIED;VALUE=DATE-TIME:20241206T143225Z
LOCATION:UNILA - Jardim Universitário
URL:https://portal.unila.edu.br/eventos/oficina-explorando-modelos-de-habl
 antes-reconocimiento-distribucion-y-participacion-en-la-unila
END:VEVENT
BEGIN:VTIMEZONE
TZID:America/Buenos_Aires
X-LIC-LOCATION:America/Buenos_Aires
BEGIN:STANDARD
DTSTART;VALUE=DATE-TIME:20090314T230000
TZNAME:ART
TZOFFSETFROM:-0200
TZOFFSETTO:-0300
END:STANDARD
END:VTIMEZONE
END:VCALENDAR
