BEGIN:VCALENDAR
VERSION:2.0
PRODID:-//Plone.org//NONSGML plone.app.event//EN
X-WR-TIMEZONE:America/Buenos_Aires
BEGIN:VEVENT
SUMMARY:Oficina Espiral de Ervas e Medicinas
DTSTART;TZID=America/Buenos_Aires;VALUE=DATE-TIME:20221130T160000
DTEND;TZID=America/Buenos_Aires;VALUE=DATE-TIME:20221130T173000
DTSTAMP;VALUE=DATE-TIME:20260423T225014Z
UID:81c298ca5eb547c28b16577f56e0b3e4@portal.unila.edu.br
CREATED;VALUE=DATE-TIME:20221118T193041Z
DESCRIPTION:Oficina é iniciativa de projetos de extensão da UNILA
LAST-MODIFIED;VALUE=DATE-TIME:20221118T193056Z
URL:https://portal.unila.edu.br/eventos/oficina-espiral-de-ervas-e-medicin
 as-1
END:VEVENT
BEGIN:VTIMEZONE
TZID:America/Buenos_Aires
X-LIC-LOCATION:America/Buenos_Aires
BEGIN:STANDARD
DTSTART;VALUE=DATE-TIME:20090314T230000
TZNAME:ART
TZOFFSETFROM:-0200
TZOFFSETTO:-0300
END:STANDARD
END:VTIMEZONE
END:VCALENDAR
