BEGIN:VCALENDAR
VERSION:2.0
PRODID:-//Plone.org//NONSGML plone.app.event//EN
X-WR-TIMEZONE:America/Buenos_Aires
BEGIN:VEVENT
SUMMARY:Oficina de culinária caiçara vegana
DTSTART;TZID=America/Buenos_Aires;VALUE=DATE-TIME:20251220T100000
DTEND;TZID=America/Buenos_Aires;VALUE=DATE-TIME:20251220T140000
DTSTAMP;VALUE=DATE-TIME:20260424T101505Z
UID:1faeb5bc37974ea8bc6fe3a9cef3e577@portal.unila.edu.br
CREATED;VALUE=DATE-TIME:20251216T183728Z
DESCRIPTION:Oficina de culinária caiçara vegana acontece em 20 de dezemb
 ro\, das 10h às 14h\, na cozinha comunitária do Campus Integração da U
 NILA.
LAST-MODIFIED;VALUE=DATE-TIME:20251217T112225Z
LOCATION:UNILA - Campus Integração
URL:https://portal.unila.edu.br/eventos/oficina-de-culinaria-caicara-vegan
 a
END:VEVENT
BEGIN:VTIMEZONE
TZID:America/Buenos_Aires
X-LIC-LOCATION:America/Buenos_Aires
BEGIN:STANDARD
DTSTART;VALUE=DATE-TIME:20090314T230000
TZNAME:ART
TZOFFSETFROM:-0200
TZOFFSETTO:-0300
END:STANDARD
END:VTIMEZONE
END:VCALENDAR
