BEGIN:VCALENDAR
VERSION:2.0
PRODID:-//Plone.org//NONSGML plone.app.event//EN
X-WR-TIMEZONE:America/Buenos_Aires
BEGIN:VEVENT
SUMMARY:Oficina de Criação de Currículo Lattes
DTSTART;TZID=America/Buenos_Aires;VALUE=DATE-TIME:20230929T100000
DTEND;TZID=America/Buenos_Aires;VALUE=DATE-TIME:20230929T120000
DTSTAMP;VALUE=DATE-TIME:20260423T210143Z
UID:9adb936599cf41b999f771eac7b00d0d@portal.unila.edu.br
CREATED;VALUE=DATE-TIME:20230928T154138Z
DESCRIPTION:Oficina será reofertada no dia 29 de setembro\, às 10h\, na 
 UNILA-Jardim Universitário
LAST-MODIFIED;VALUE=DATE-TIME:20230928T154258Z
LOCATION:UNILA-Jardim Universitário - Sala C-123-7
URL:https://portal.unila.edu.br/eventos/oficina-de-criacao-de-curriculo-la
 ttes
END:VEVENT
BEGIN:VTIMEZONE
TZID:America/Buenos_Aires
X-LIC-LOCATION:America/Buenos_Aires
BEGIN:STANDARD
DTSTART;VALUE=DATE-TIME:20090314T230000
TZNAME:ART
TZOFFSETFROM:-0200
TZOFFSETTO:-0300
END:STANDARD
END:VTIMEZONE
END:VCALENDAR
