BEGIN:VCALENDAR
VERSION:2.0
PRODID:-//Plone.org//NONSGML plone.app.event//EN
X-WR-TIMEZONE:America/Buenos_Aires
BEGIN:VEVENT
SUMMARY:Oficina aberta Poéticas do Entre
DTSTART;TZID=America/Buenos_Aires;VALUE=DATE-TIME:20220425T170000
DTEND;TZID=America/Buenos_Aires;VALUE=DATE-TIME:20220425T190000
DTSTAMP;VALUE=DATE-TIME:20260422T154431Z
UID:f9bee203c3744d8dbd12d297a2399e12@portal.unila.edu.br
CREATED;VALUE=DATE-TIME:20220414T191953Z
DESCRIPTION:Oficina de apresentação do projeto de pesquisa extensão "Po
 éticas do Entre"
LAST-MODIFIED;VALUE=DATE-TIME:20220414T192002Z
LOCATION:Jardim Universitário - Sala C115
URL:https://portal.unila.edu.br/eventos/oficina-aberta-poeticas-do-entre
END:VEVENT
BEGIN:VTIMEZONE
TZID:America/Buenos_Aires
X-LIC-LOCATION:America/Buenos_Aires
BEGIN:STANDARD
DTSTART;VALUE=DATE-TIME:20090314T230000
TZNAME:ART
TZOFFSETFROM:-0200
TZOFFSETTO:-0300
END:STANDARD
END:VTIMEZONE
END:VCALENDAR
