BEGIN:VCALENDAR
VERSION:2.0
PRODID:-//Plone.org//NONSGML plone.app.event//EN
X-WR-TIMEZONE:America/Buenos_Aires
BEGIN:VEVENT
SUMMARY:Oficina: A música e o corpo nas lutas pela identidade\, ancestral
 idade e memória afro-diaspórica no Peru
DTSTART;TZID=America/Buenos_Aires;VALUE=DATE-TIME:20241123T163000
DTSTAMP;VALUE=DATE-TIME:20260424T032641Z
UID:cc0a61118db14d14b6a851a2436135a2@portal.unila.edu.br
CREATED;VALUE=DATE-TIME:20241118T145039Z
DESCRIPTION:Oficina ocorre neste sábado (23) na UNILA-Jardim Universitár
 io
LAST-MODIFIED;VALUE=DATE-TIME:20241118T145053Z
LOCATION:UNILA - Jardim Universitário - Sala C-114
URL:https://portal.unila.edu.br/eventos/oficina-a-musica-e-o-corpo-nas-lut
 as-pela-identidade-ancestralidade-e-memoria-afro-diasporica-no-peru
END:VEVENT
BEGIN:VTIMEZONE
TZID:America/Buenos_Aires
X-LIC-LOCATION:America/Buenos_Aires
BEGIN:STANDARD
DTSTART;VALUE=DATE-TIME:20090314T230000
TZNAME:ART
TZOFFSETFROM:-0200
TZOFFSETTO:-0300
END:STANDARD
END:VTIMEZONE
END:VCALENDAR
