BEGIN:VCALENDAR
VERSION:2.0
PRODID:-//Plone.org//NONSGML plone.app.event//EN
X-WR-TIMEZONE:America/Buenos_Aires
BEGIN:VEVENT
SUMMARY:OcupaTrans - Roda de conversa "Intersecções entre raça\, gêner
 o e etnia"
DTSTART;TZID=America/Buenos_Aires;VALUE=DATE-TIME:20240905T173000
DTSTAMP;VALUE=DATE-TIME:20260423T202406Z
UID:72d301b0b36a463ea7ed0283a2f846f1@portal.unila.edu.br
CREATED;VALUE=DATE-TIME:20240903T191826Z
DESCRIPTION:Primeira atividade da campanha OcupaTrans será a roda de conv
 ersa "Intersecções entre raça\, gênero e etnia"\, nesta quinta-feira (
 5)\, no Campus Integração. Ação é realizada pelo GT de Conscientizaç
 ão contra a LGBTFobia\, com apoio da SECAFE.
LAST-MODIFIED;VALUE=DATE-TIME:20240903T191833Z
LOCATION:Auditório da UNILA-Campus Integração
URL:https://portal.unila.edu.br/eventos/ocupatrans-roda-de-conversa-inters
 eccoes-entre-raca-genero-e-etnia
END:VEVENT
BEGIN:VTIMEZONE
TZID:America/Buenos_Aires
X-LIC-LOCATION:America/Buenos_Aires
BEGIN:STANDARD
DTSTART;VALUE=DATE-TIME:20090314T230000
TZNAME:ART
TZOFFSETFROM:-0200
TZOFFSETTO:-0300
END:STANDARD
END:VTIMEZONE
END:VCALENDAR
