BEGIN:VCALENDAR
VERSION:2.0
PRODID:-//Plone.org//NONSGML plone.app.event//EN
X-WR-TIMEZONE:America/Buenos_Aires
BEGIN:VEVENT
SUMMARY:O mestrando João Alípio Anastácio De Paula Correa defende disse
 rtação no dia 10/03\, às 14h.
DTSTART;TZID=America/Buenos_Aires;VALUE=DATE-TIME:20220310T140000
DTEND;TZID=America/Buenos_Aires;VALUE=DATE-TIME:20220310T160000
DTSTAMP;VALUE=DATE-TIME:20260422T090911Z
UID:64022e73feba4adaa73a1df7359440e4@portal.unila.edu.br
CREATED;VALUE=DATE-TIME:20220307T164741Z
DESCRIPTION:O Programa de Pós-Graduação em Relações Internacionais PP
 GRI convida para o evento aberto ao público.
LAST-MODIFIED;VALUE=DATE-TIME:20220307T164925Z
LOCATION:https://meet.google.com/fpd-cqzh-fcz
URL:https://portal.unila.edu.br/eventos/o-mestrando-joao-alipio-anastacio-
 de-paula-correa-defende-dissertacao-no-dia-10-03-as-14h
END:VEVENT
BEGIN:VTIMEZONE
TZID:America/Buenos_Aires
X-LIC-LOCATION:America/Buenos_Aires
BEGIN:STANDARD
DTSTART;VALUE=DATE-TIME:20090314T230000
TZNAME:ART
TZOFFSETFROM:-0200
TZOFFSETTO:-0300
END:STANDARD
END:VTIMEZONE
END:VCALENDAR
