BEGIN:VCALENDAR
VERSION:2.0
PRODID:-//Plone.org//NONSGML plone.app.event//EN
X-WR-TIMEZONE:America/Buenos_Aires
BEGIN:VEVENT
SUMMARY:Mutirão/Minga: Oficina de plantio de outono
DTSTART;TZID=America/Buenos_Aires;VALUE=DATE-TIME:20250426T100000
DTSTAMP;VALUE=DATE-TIME:20260423T225223Z
UID:e3bdd66f14504906811d15c9aebb6eac@portal.unila.edu.br
CREATED;VALUE=DATE-TIME:20250424T150239Z
DESCRIPTION:A Horta Comunitária de Cidade Nova promove\, no dia 26 de abr
 il de 2025\, às 10h\, o Mutirão/Minga: Oficina de plantio de outono.
LAST-MODIFIED;VALUE=DATE-TIME:20250424T150309Z
URL:https://portal.unila.edu.br/eventos/mutirao-minga-oficina-de-plantio-d
 e-outono
END:VEVENT
BEGIN:VTIMEZONE
TZID:America/Buenos_Aires
X-LIC-LOCATION:America/Buenos_Aires
BEGIN:STANDARD
DTSTART;VALUE=DATE-TIME:20090314T230000
TZNAME:ART
TZOFFSETFROM:-0200
TZOFFSETTO:-0300
END:STANDARD
END:VTIMEZONE
END:VCALENDAR
