BEGIN:VCALENDAR
VERSION:2.0
PRODID:-//Plone.org//NONSGML plone.app.event//EN
X-WR-TIMEZONE:America/Buenos_Aires
BEGIN:VEVENT
SUMMARY:Mulheres na cultura e seus desafios
DTSTART;TZID=America/Buenos_Aires;VALUE=DATE-TIME:20250719T150000
DTSTAMP;VALUE=DATE-TIME:20260424T112115Z
UID:3f1924fd94b04ba7a3a14a72c118e4c6@portal.unila.edu.br
CONTACT:Sigeventos
CREATED;VALUE=DATE-TIME:20250717T113827Z
DESCRIPTION:Roda de conversa pretende explorar as temáticas de editais e 
 financiamento\, visibilidade feminina\, redes de colaboração\, cultura n
 a fronteira e os desafios para os fazedores de cultura em uma cidade multi
 cultural
LAST-MODIFIED;VALUE=DATE-TIME:20250717T113832Z
LOCATION:Biblioteca Comunitária do Cidade Nova
URL:https://portal.unila.edu.br/eventos/mulheres-na-cultura-e-seus-desafio
 s
END:VEVENT
BEGIN:VTIMEZONE
TZID:America/Buenos_Aires
X-LIC-LOCATION:America/Buenos_Aires
BEGIN:STANDARD
DTSTART;VALUE=DATE-TIME:20090314T230000
TZNAME:ART
TZOFFSETFROM:-0200
TZOFFSETTO:-0300
END:STANDARD
END:VTIMEZONE
END:VCALENDAR
