BEGIN:VCALENDAR
VERSION:2.0
PRODID:-//Plone.org//NONSGML plone.app.event//EN
X-WR-TIMEZONE:America/Buenos_Aires
BEGIN:VEVENT
SUMMARY:"Teko Paranaygua" - Mostra de filmes de jovens comunicadores Avá-
 Guarani
DTSTART;TZID=America/Buenos_Aires;VALUE=DATE-TIME:20250623T140000
DTSTAMP;VALUE=DATE-TIME:20260423T225139Z
UID:0516528c201440168faef93179e0873c@portal.unila.edu.br
CREATED;VALUE=DATE-TIME:20250617T202535Z
DESCRIPTION:Atividade será no dia 23 de junho\, às 14h\, no Auditório d
 o Campus Integração.
LAST-MODIFIED;VALUE=DATE-TIME:20250617T203247Z
LOCATION:UNILA - Campus Integração
URL:https://portal.unila.edu.br/eventos/mostra-teko-paranaygua-jovens-comu
 nicadores-ava-guarani
END:VEVENT
BEGIN:VTIMEZONE
TZID:America/Buenos_Aires
X-LIC-LOCATION:America/Buenos_Aires
BEGIN:STANDARD
DTSTART;VALUE=DATE-TIME:20090314T230000
TZNAME:ART
TZOFFSETFROM:-0200
TZOFFSETTO:-0300
END:STANDARD
END:VTIMEZONE
END:VCALENDAR
