BEGIN:VCALENDAR
VERSION:2.0
PRODID:-//Plone.org//NONSGML plone.app.event//EN
X-WR-TIMEZONE:America/Buenos_Aires
BEGIN:VEVENT
SUMMARY:Mostra Latino-Americana de Pesquisa em Literatura Comparada
DTSTART;VALUE=DATE:20230911
DTEND;VALUE=DATE:20230916
DTSTAMP;VALUE=DATE-TIME:20260424T032423Z
UID:2df03008b86746268625761f11497da9@portal.unila.edu.br
CONTACT:https://docs.google.com/document/u/0/d/1xqdTVhdDBvL4AOWIvDLm4k5GTH
 43rzJJ6abI2fsAOag/mobilebasic
CREATED;VALUE=DATE-TIME:20230911T185755Z
DESCRIPTION:Evento acontece de 11 a 15 de setembro\, em modalidade híbrid
 a\, com mesas presenciais e remotas.
LAST-MODIFIED;VALUE=DATE-TIME:20230911T185808Z
LOCATION:Jardim Universitário - UNILA
URL:https://portal.unila.edu.br/eventos/mostra-latino-americana-de-pesquis
 a-em-literatura-comparada
END:VEVENT
END:VCALENDAR
