BEGIN:VCALENDAR
VERSION:2.0
PRODID:-//Plone.org//NONSGML plone.app.event//EN
X-WR-TIMEZONE:America/Buenos_Aires
BEGIN:VEVENT
SUMMARY:Mostra fotográfica Retinas da Fronteira Trinacional.
DTSTART;VALUE=DATE:20220425
DTEND;VALUE=DATE:20220426
DTSTAMP;VALUE=DATE-TIME:20260423T230955Z
UID:95807ea9129a4bd9a38210f663a1a080@portal.unila.edu.br
CREATED;VALUE=DATE-TIME:20220426T134548Z
DESCRIPTION:A iniciativa do Museu Digital UNILA\, está aberta para visita
 ção no térreo do campus Jardim Universitário\, até o dia 18 de maio.
LAST-MODIFIED;VALUE=DATE-TIME:20220426T134556Z
LOCATION:Campus Jardim Universitário (JU)
URL:https://portal.unila.edu.br/eventos/mostra-fotografica-retinas-da-fron
 teira-trinacional-1
END:VEVENT
END:VCALENDAR
