BEGIN:VCALENDAR
VERSION:2.0
PRODID:-//Plone.org//NONSGML plone.app.event//EN
X-WR-TIMEZONE:America/Buenos_Aires
BEGIN:VEVENT
SUMMARY:Mostra de filmes
DTSTART;TZID=America/Buenos_Aires;VALUE=DATE-TIME:20250509T180000
DTEND;TZID=America/Buenos_Aires;VALUE=DATE-TIME:20250509T210000
DTSTAMP;VALUE=DATE-TIME:20260424T031844Z
UID:10b41965a6d14474b93e7acdbe6966c0@portal.unila.edu.br
CREATED;VALUE=DATE-TIME:20250506T104731Z
DESCRIPTION:A 1ª Mostra "Miradas entre Fronteras" traz filmes produzidos 
 entre Brasil\, Paraguai e Argentina que atravessam e refletem os territór
 ios de fronteira. A atividade será no dia 9 de maio\, na Unidade Jardim U
 niversitário.
LAST-MODIFIED;VALUE=DATE-TIME:20250506T105014Z
LOCATION:UNILA - Jardim Universitário
URL:https://portal.unila.edu.br/eventos/mostra-de-filmes
END:VEVENT
BEGIN:VTIMEZONE
TZID:America/Buenos_Aires
X-LIC-LOCATION:America/Buenos_Aires
BEGIN:STANDARD
DTSTART;VALUE=DATE-TIME:20090314T230000
TZNAME:ART
TZOFFSETFROM:-0200
TZOFFSETTO:-0300
END:STANDARD
END:VTIMEZONE
END:VCALENDAR
