BEGIN:VCALENDAR
VERSION:2.0
PRODID:-//Plone.org//NONSGML plone.app.event//EN
X-WR-TIMEZONE:America/Buenos_Aires
BEGIN:VEVENT
SUMMARY:Minicurso PPGIELA - Módulo 2: 'Memorias culturales de la violenci
 a estatal en Argentina'
DTSTART;TZID=America/Buenos_Aires;VALUE=DATE-TIME:20221004T140000
DTEND;TZID=America/Buenos_Aires;VALUE=DATE-TIME:20221006T190000
DTSTAMP;VALUE=DATE-TIME:20260423T150402Z
UID:646ccfeef1604fa4a5822e73c8cf5aaa@portal.unila.edu.br
CONTACT:https://sig.unila.edu.br/eventos/public/evento/MP'CVEACPDVP(NA2022
CREATED;VALUE=DATE-TIME:20221003T132648Z
DESCRIPTION:Minicurso é oferecido pelo Programa de Pós-graduação Inter
 disciplinar em Estudos Latino-americanos e módulo tem como tema 'Memorias
  culturales de la violencia estatal en Argentina"
LAST-MODIFIED;VALUE=DATE-TIME:20221003T162338Z
LOCATION:Jardim Universitário - Sala C305
URL:https://portal.unila.edu.br/eventos/minicurso-ppgiela-modulo-2-memoria
 s-culturales-de-la-violencia-estatal-en-argentina
END:VEVENT
BEGIN:VTIMEZONE
TZID:America/Buenos_Aires
X-LIC-LOCATION:America/Buenos_Aires
BEGIN:STANDARD
DTSTART;VALUE=DATE-TIME:20090314T230000
TZNAME:ART
TZOFFSETFROM:-0200
TZOFFSETTO:-0300
END:STANDARD
END:VTIMEZONE
END:VCALENDAR
