BEGIN:VCALENDAR
VERSION:2.0
PRODID:-//Plone.org//NONSGML plone.app.event//EN
X-WR-TIMEZONE:America/Buenos_Aires
BEGIN:VEVENT
SUMMARY:Minicurso: "Literatura e Matemática: dentre horizontes possíveis
 \, Malba Tahan"
DTSTART;TZID=America/Sao_Paulo;VALUE=DATE-TIME:20210828T140000
DTEND;TZID=America/Sao_Paulo;VALUE=DATE-TIME:20210828T160000
DTSTAMP;VALUE=DATE-TIME:20260423T225206Z
UID:4b76993e29784b0ab8a1e7fb242a221b@portal.unila.edu.br
CREATED;VALUE=DATE-TIME:20210825T222929Z
DESCRIPTION:Promovido pelo PET Conexões de Saberes da UNILA\, minicurso s
 erá neste sábado (28)\, às 14h
LAST-MODIFIED;VALUE=DATE-TIME:20210825T225438Z
URL:https://portal.unila.edu.br/eventos/minicurso-literatura-e-matematica-
 dentre-horizontes-possiveis-malba-tahan
END:VEVENT
BEGIN:VTIMEZONE
TZID:America/Sao_Paulo
X-LIC-LOCATION:America/Sao_Paulo
BEGIN:STANDARD
DTSTART;VALUE=DATE-TIME:20210220T230000
TZNAME:BRT
TZOFFSETFROM:-0200
TZOFFSETTO:-0300
END:STANDARD
END:VTIMEZONE
END:VCALENDAR
