BEGIN:VCALENDAR
VERSION:2.0
PRODID:-//Plone.org//NONSGML plone.app.event//EN
X-WR-TIMEZONE:America/Buenos_Aires
BEGIN:VEVENT
SUMMARY:Mini-palestra: Região Andina e o papel dos EUA no atual cenário 
 Venezuelano
DTSTART;TZID=America/Sao_Paulo;VALUE=DATE-TIME:20190311T133000
DTSTAMP;VALUE=DATE-TIME:20260424T032421Z
UID:8a0ee798360645f287f5e74c3ce2d4b2@portal.unila.edu.br
CREATED;VALUE=DATE-TIME:20190308T200858Z
DESCRIPTION:Palestra com o professor Venezuelano dos programas de Relaçõ
 es Internacionais e de Ciência Política da USP\, Rafael Villa
LAST-MODIFIED;VALUE=DATE-TIME:20190311T175220Z
LOCATION:Auditório Mercosul 1 - Parque Tecnológico Itaipu
URL:https://portal.unila.edu.br/eventos/mini-palestra-regiao-andina-e-o-pa
 pel-dos-eua-no-atual-cenario-venezuelano
END:VEVENT
BEGIN:VTIMEZONE
TZID:America/Sao_Paulo
X-LIC-LOCATION:America/Sao_Paulo
BEGIN:STANDARD
DTSTART;VALUE=DATE-TIME:20190216T230000
TZNAME:BRT
TZOFFSETFROM:-0200
TZOFFSETTO:-0300
END:STANDARD
END:VTIMEZONE
END:VCALENDAR
