BEGIN:VCALENDAR
VERSION:2.0
PRODID:-//Plone.org//NONSGML plone.app.event//EN
X-WR-TIMEZONE:America/Buenos_Aires
BEGIN:VEVENT
SUMMARY:Migração e Resistência: Reflexões Literárias e Cinematográfi
 cas
DTSTART;TZID=America/Buenos_Aires;VALUE=DATE-TIME:20240908T180000
DTSTAMP;VALUE=DATE-TIME:20260423T225549Z
UID:a4e9da42d70a4b8094e5666a1bdb04c8@portal.unila.edu.br
CREATED;VALUE=DATE-TIME:20240905T150007Z
DESCRIPTION:Clube da Literatura da UNILA promove palestra e exibição de 
 filme no próximo domingo (8).
LAST-MODIFIED;VALUE=DATE-TIME:20240905T150012Z
LOCATION:Quixote - Espaço Cultural
URL:https://portal.unila.edu.br/eventos/migracao-e-resistencia-reflexoes-l
 iterarias-e-cinematograficas
END:VEVENT
BEGIN:VTIMEZONE
TZID:America/Buenos_Aires
X-LIC-LOCATION:America/Buenos_Aires
BEGIN:STANDARD
DTSTART;VALUE=DATE-TIME:20090314T230000
TZNAME:ART
TZOFFSETFROM:-0200
TZOFFSETTO:-0300
END:STANDARD
END:VTIMEZONE
END:VCALENDAR
