BEGIN:VCALENDAR
VERSION:2.0
PRODID:-//Plone.org//NONSGML plone.app.event//EN
X-WR-TIMEZONE:America/Buenos_Aires
BEGIN:VEVENT
SUMMARY:Métodos Quantitativos em Finanças
DTSTART;TZID=America/Buenos_Aires;VALUE=DATE-TIME:20240807T160000
DTSTAMP;VALUE=DATE-TIME:20260423T224854Z
UID:61771d175b5b4b3fab49d47425942c66@portal.unila.edu.br
CREATED;VALUE=DATE-TIME:20240805T194429Z
DESCRIPTION:Palestra será ministrada por Rafael Morgado Silva e será rea
 lizada no Itaipu Parquetec
LAST-MODIFIED;VALUE=DATE-TIME:20240805T194439Z
LOCATION:Bloco 4\, espaço 3\, sala 1 - Itaipu Parquetec
URL:https://portal.unila.edu.br/eventos/metodos-quantitativos-em-financas
END:VEVENT
BEGIN:VTIMEZONE
TZID:America/Buenos_Aires
X-LIC-LOCATION:America/Buenos_Aires
BEGIN:STANDARD
DTSTART;VALUE=DATE-TIME:20090314T230000
TZNAME:ART
TZOFFSETFROM:-0200
TZOFFSETTO:-0300
END:STANDARD
END:VTIMEZONE
END:VCALENDAR
