BEGIN:VCALENDAR
VERSION:2.0
PRODID:-//Plone.org//NONSGML plone.app.event//EN
X-WR-TIMEZONE:America/Buenos_Aires
BEGIN:VEVENT
SUMMARY:3ª Mostra de Pesquisas em História
DTSTART;VALUE=DATE:20251125
DTEND;VALUE=DATE:20251127
DTSTAMP;VALUE=DATE-TIME:20260423T225913Z
UID:b242c10a883344afbd38a63ebf8e26f4@portal.unila.edu.br
CREATED;VALUE=DATE-TIME:20251118T123018Z
DESCRIPTION:Mostra de pesquisas do PPGHIS ocorre em 25 e 26 de novembro\, 
 na Unidade Jardim Universitário\, com apresentações de mestrandos(as) e
  conferência de abertura.
LAST-MODIFIED;VALUE=DATE-TIME:20251118T123253Z
LOCATION:UNILA - Jardim Universitário
URL:https://portal.unila.edu.br/eventos/mestrado-em-historia-promove-mostr
 a-de-pesquisas
END:VEVENT
END:VCALENDAR
