BEGIN:VCALENDAR
VERSION:2.0
PRODID:-//Plone.org//NONSGML plone.app.event//EN
X-WR-TIMEZONE:America/Buenos_Aires
BEGIN:VEVENT
SUMMARY:Mesa-redonda: "Perspectivas e Desafios para a XVI Cúpula dos BRIC
 S em 2024 na Rússia"
DTSTART;TZID=America/Buenos_Aires;VALUE=DATE-TIME:20241016T100000
DTSTAMP;VALUE=DATE-TIME:20260423T225707Z
UID:8de61620c060413b8452fc65bc7ae1f5@portal.unila.edu.br
CREATED;VALUE=DATE-TIME:20241014T165533Z
DESCRIPTION:O debate buscará traçar as perspectivas e desafios para a XV
 I Cúpula dos BRICS em 2024\, na Rússia. A transmissão da mesa-redonda s
 erá feita pelo YouTube\, e a inscrição deve ser realizada via formulár
 io.
LAST-MODIFIED;VALUE=DATE-TIME:20241014T170311Z
LOCATION:YouTube
URL:https://portal.unila.edu.br/eventos/mesa-redonda-perspectivas-e-desafi
 os-para-a-xvi-cupula-dos-brics-em-2024-na-russia
END:VEVENT
BEGIN:VTIMEZONE
TZID:America/Buenos_Aires
X-LIC-LOCATION:America/Buenos_Aires
BEGIN:STANDARD
DTSTART;VALUE=DATE-TIME:20090314T230000
TZNAME:ART
TZOFFSETFROM:-0200
TZOFFSETTO:-0300
END:STANDARD
END:VTIMEZONE
END:VCALENDAR
