BEGIN:VCALENDAR
VERSION:2.0
PRODID:-//Plone.org//NONSGML plone.app.event//EN
X-WR-TIMEZONE:America/Buenos_Aires
BEGIN:VEVENT
SUMMARY:Mesa-redonda: "BRICS 10 anos - Realidades e perspectivas futuras"
DTSTART;TZID=America/Sao_Paulo;VALUE=DATE-TIME:20191112T192000
DTEND;TZID=America/Sao_Paulo;VALUE=DATE-TIME:20191112T220000
DTSTAMP;VALUE=DATE-TIME:20260423T165103Z
UID:6659a92c645d42e7a70a19dd19f9796f@portal.unila.edu.br
CREATED;VALUE=DATE-TIME:20191105T135514Z
DESCRIPTION:Evento é promovido pelo Observatório dos BRICS\, grupo de pe
 squisa vinculado ao Núcleo de Estudos Estratégicos de Geopolítica e Int
 egração (NEEGI)
LAST-MODIFIED;VALUE=DATE-TIME:20191105T143513Z
LOCATION:Sala Florestan Fernandes 3 - UNILA-PTI (Avenida Tancredo Neves\, 
 6731)
URL:https://portal.unila.edu.br/eventos/mesa-redonda-brics-10-anos-realida
 des-e-perspectivas-futuras
END:VEVENT
BEGIN:VTIMEZONE
TZID:America/Sao_Paulo
X-LIC-LOCATION:America/Sao_Paulo
BEGIN:DAYLIGHT
DTSTART;VALUE=DATE-TIME:20191020T010000
TZNAME:BRST
TZOFFSETFROM:-0300
TZOFFSETTO:-0200
END:DAYLIGHT
END:VTIMEZONE
END:VCALENDAR
