BEGIN:VCALENDAR
VERSION:2.0
PRODID:-//Plone.org//NONSGML plone.app.event//EN
X-WR-TIMEZONE:America/Buenos_Aires
BEGIN:VEVENT
SUMMARY:Mesa-redonda: “Mulheres de luta: experiências latino-americanas
  em defesa de territórios quilombolas e indígenas”
DTSTART;TZID=America/Sao_Paulo;VALUE=DATE-TIME:20210525T180000
DTEND;TZID=America/Sao_Paulo;VALUE=DATE-TIME:20210525T204500
DTSTAMP;VALUE=DATE-TIME:20260422T071230Z
UID:ccf7b84a7b744fe3b8f762a4eabc3cb6@portal.unila.edu.br
CATEGORIES:desenvolvimento rural
CREATED;VALUE=DATE-TIME:20210514T142043Z
DESCRIPTION:Evento será realizado no dia 25 de maio\, às 18h
LAST-MODIFIED;VALUE=DATE-TIME:20210514T142830Z
URL:https://portal.unila.edu.br/eventos/mesa-redonda-201cmulheres-de-luta-
 experiencias-latino-americanas-em-defesa-de-territorios-quilombolas-e-indi
 genas201d
END:VEVENT
BEGIN:VTIMEZONE
TZID:America/Sao_Paulo
X-LIC-LOCATION:America/Sao_Paulo
BEGIN:STANDARD
DTSTART;VALUE=DATE-TIME:20210220T230000
TZNAME:BRT
TZOFFSETFROM:-0200
TZOFFSETTO:-0300
END:STANDARD
END:VTIMEZONE
END:VCALENDAR
