BEGIN:VCALENDAR
VERSION:2.0
PRODID:-//Plone.org//NONSGML plone.app.event//EN
X-WR-TIMEZONE:America/Buenos_Aires
BEGIN:VEVENT
SUMMARY:Mesa de Diálogo sobre Segurança
DTSTART;TZID=America/Buenos_Aires;VALUE=DATE-TIME:20250724T180000
DTSTAMP;VALUE=DATE-TIME:20260423T224920Z
UID:d985aaf2b5694d39bd2024de9b7e6bcd@portal.unila.edu.br
CREATED;VALUE=DATE-TIME:20250721T145626Z
DESCRIPTION:Mesa de diálogo entre a comunidade acadêmica da UNILA e repr
 esentantes da segurança pública do município será realizada no dia 24 
 de julho\, no auditório do Jardim Universitário.
LAST-MODIFIED;VALUE=DATE-TIME:20250722T115240Z
LOCATION:UNILA-Jardim Universitário - Auditório
URL:https://portal.unila.edu.br/eventos/mesa-de-dialogo-sobre-seguranca
END:VEVENT
BEGIN:VTIMEZONE
TZID:America/Buenos_Aires
X-LIC-LOCATION:America/Buenos_Aires
BEGIN:STANDARD
DTSTART;VALUE=DATE-TIME:20090314T230000
TZNAME:ART
TZOFFSETFROM:-0200
TZOFFSETTO:-0300
END:STANDARD
END:VTIMEZONE
END:VCALENDAR
