BEGIN:VCALENDAR
VERSION:2.0
PRODID:-//Plone.org//NONSGML plone.app.event//EN
X-WR-TIMEZONE:America/Buenos_Aires
BEGIN:VEVENT
SUMMARY:Memorial Acadêmico
DTSTART;TZID=America/Buenos_Aires;VALUE=DATE-TIME:20240805T140000
DTSTAMP;VALUE=DATE-TIME:20260423T055715Z
UID:a1cbbd437ffc40d0a7d2c43ab9ca9c54@portal.unila.edu.br
CREATED;VALUE=DATE-TIME:20240802T141759Z
DESCRIPTION:No dia 5 de agosto\, será realizada a sessão pública para d
 efesa de Memorial Descritivo Acadêmico pelo professor Walfrido Svoboda.
LAST-MODIFIED;VALUE=DATE-TIME:20240802T141805Z
LOCATION:Remoto
URL:https://portal.unila.edu.br/eventos/memorial-academico
END:VEVENT
BEGIN:VTIMEZONE
TZID:America/Buenos_Aires
X-LIC-LOCATION:America/Buenos_Aires
BEGIN:STANDARD
DTSTART;VALUE=DATE-TIME:20090314T230000
TZNAME:ART
TZOFFSETFROM:-0200
TZOFFSETTO:-0300
END:STANDARD
END:VTIMEZONE
END:VCALENDAR
