BEGIN:VCALENDAR
VERSION:2.0
PRODID:-//Plone.org//NONSGML plone.app.event//EN
X-WR-TIMEZONE:America/Buenos_Aires
BEGIN:VEVENT
SUMMARY:Memória UNILA
DTSTART;TZID=America/Buenos_Aires;VALUE=DATE-TIME:20250424T160000
DTEND;TZID=America/Buenos_Aires;VALUE=DATE-TIME:20250424T190000
DTSTAMP;VALUE=DATE-TIME:20260420T142333Z
UID:404b65ea57e542f1a0cf19119af5bd9a@portal.unila.edu.br
CREATED;VALUE=DATE-TIME:20250403T133957Z
DESCRIPTION:O evento cultural em comemoração aos 15 anos da Universidade
  será realizado no dia 24 de abril\, das 14h às 19h\, no auditório e no
 s blocos de aulas do Campus Integração.
LAST-MODIFIED;VALUE=DATE-TIME:20250404T145857Z
LOCATION:UNILA - Campus Integração
URL:https://portal.unila.edu.br/eventos/memoria-unila
END:VEVENT
BEGIN:VTIMEZONE
TZID:America/Buenos_Aires
X-LIC-LOCATION:America/Buenos_Aires
BEGIN:STANDARD
DTSTART;VALUE=DATE-TIME:20090314T230000
TZNAME:ART
TZOFFSETFROM:-0200
TZOFFSETTO:-0300
END:STANDARD
END:VTIMEZONE
END:VCALENDAR
