BEGIN:VCALENDAR
VERSION:2.0
PRODID:-//Plone.org//NONSGML plone.app.event//EN
X-WR-TIMEZONE:America/Buenos_Aires
BEGIN:VEVENT
SUMMARY:Medicina do Estilo de Vida e Envelhecimento Saudável
DTSTART;TZID=America/Buenos_Aires;VALUE=DATE-TIME:20231004T133000
DTEND;TZID=America/Buenos_Aires;VALUE=DATE-TIME:20231004T143000
DTSTAMP;VALUE=DATE-TIME:20260423T225027Z
UID:0abbf613b46b441d808e92b4a664f75f@portal.unila.edu.br
RRULE:FREQ=WEEKLY;COUNT=4;BYDAY=WE
EXDATE;TZID=America/Buenos_Aires:20230913T000000,20230920T000000,20230927T
 000000,20231025T000000
CONTACT:https://sig.unila.edu.br/eventos/public/evento/MEVES2023
CREATED;VALUE=DATE-TIME:20230808T143539Z
DESCRIPTION:Curso de extensão ocorrerá às quartas-feiras entre o mês d
 e agosto e setembro.
LAST-MODIFIED;VALUE=DATE-TIME:20230920T145729Z
LOCATION:Jardim Universitário - Sala C-208
URL:https://portal.unila.edu.br/eventos/medicina-do-estilo-de-vida-e-envel
 hecimento-saudavel
END:VEVENT
BEGIN:VTIMEZONE
TZID:America/Buenos_Aires
X-LIC-LOCATION:America/Buenos_Aires
BEGIN:STANDARD
DTSTART;VALUE=DATE-TIME:20090314T230000
TZNAME:ART
TZOFFSETFROM:-0200
TZOFFSETTO:-0300
END:STANDARD
END:VTIMEZONE
END:VCALENDAR
