BEGIN:VCALENDAR
VERSION:2.0
PRODID:-//Plone.org//NONSGML plone.app.event//EN
X-WR-TIMEZONE:America/Buenos_Aires
BEGIN:VEVENT
SUMMARY:Los Silencios\, de Beatriz Seigner - Cineclube Latino
DTSTART;TZID=America/Sao_Paulo;VALUE=DATE-TIME:20190416T190000
DTEND;TZID=America/Sao_Paulo;VALUE=DATE-TIME:20190416T210000
DTSTAMP;VALUE=DATE-TIME:20260423T230133Z
UID:9060bb474d3644a3aa76db9e7b1f1abe@portal.unila.edu.br
CONTACT:https://www.facebook.com/cinelatinounila/
CREATED;VALUE=DATE-TIME:20190412T135153Z
DESCRIPTION:Projeto de extensão da UNILA\, que ocorre no espaço do Cine 
 Cataratas no Shopping JL.
LAST-MODIFIED;VALUE=DATE-TIME:20190412T135158Z
LOCATION:Cine Cataratas - Cataratas JL Shopping\, Av. Costa e Silva\, 181
URL:https://portal.unila.edu.br/eventos/los-silencios-de-beatriz-seigner-c
 ineclube-latino
END:VEVENT
BEGIN:VTIMEZONE
TZID:America/Sao_Paulo
X-LIC-LOCATION:America/Sao_Paulo
BEGIN:STANDARD
DTSTART;VALUE=DATE-TIME:20190216T230000
TZNAME:BRT
TZOFFSETFROM:-0200
TZOFFSETTO:-0300
END:STANDARD
END:VTIMEZONE
END:VCALENDAR
