BEGIN:VCALENDAR
VERSION:2.0
PRODID:-//Plone.org//NONSGML plone.app.event//EN
X-WR-TIMEZONE:America/Buenos_Aires
BEGIN:VEVENT
SUMMARY:Live: "O que considerar no planejamento e na elaboração de mater
 iais didáticos para o Ensino Remoto Emergencial?"
DTSTART;TZID=America/Sao_Paulo;VALUE=DATE-TIME:20200908T160000
DTEND;TZID=America/Sao_Paulo;VALUE=DATE-TIME:20200908T170000
DTSTAMP;VALUE=DATE-TIME:20260423T030212Z
UID:60306f8b9f6c4365bb53694d6cbe75b2@portal.unila.edu.br
CREATED;VALUE=DATE-TIME:20200813T171009Z
DESCRIPTION:Atividade será no dia 8 de setembro e faz parte do 1º Ciclo 
 de Vivências Formativas
LAST-MODIFIED;VALUE=DATE-TIME:20200813T171158Z
URL:https://portal.unila.edu.br/eventos/live-o-que-considerar-no-planejame
 nto-e-na-elaboracao-de-materiais-didaticos-para-o-ensino-remoto-emergencia
 l
END:VEVENT
BEGIN:VTIMEZONE
TZID:America/Sao_Paulo
X-LIC-LOCATION:America/Sao_Paulo
BEGIN:STANDARD
DTSTART;VALUE=DATE-TIME:20200215T230000
TZNAME:BRT
TZOFFSETFROM:-0200
TZOFFSETTO:-0300
END:STANDARD
END:VTIMEZONE
END:VCALENDAR
