BEGIN:VCALENDAR
VERSION:2.0
PRODID:-//Plone.org//NONSGML plone.app.event//EN
X-WR-TIMEZONE:America/Buenos_Aires
BEGIN:VEVENT
SUMMARY:Live “Mulher e Escritora –  Desafios e Dificuldades"
DTSTART;TZID=America/Buenos_Aires;VALUE=DATE-TIME:20240307T190000
DTSTAMP;VALUE=DATE-TIME:20260423T224933Z
UID:f4af695f4a8148a68120531866dc3221@portal.unila.edu.br
CREATED;VALUE=DATE-TIME:20240306T155639Z
DESCRIPTION:Escritora Joice Berth participa de CharLA especial ao vivo nes
 ta quinta-feira (7)\, às 19h.
LAST-MODIFIED;VALUE=DATE-TIME:20240306T165634Z
LOCATION:Canal da UNILA no Youtube
URL:https://portal.unila.edu.br/eventos/live-mulher-e-escritora-desafios-e
 -dificuldades
END:VEVENT
BEGIN:VTIMEZONE
TZID:America/Buenos_Aires
X-LIC-LOCATION:America/Buenos_Aires
BEGIN:STANDARD
DTSTART;VALUE=DATE-TIME:20090314T230000
TZNAME:ART
TZOFFSETFROM:-0200
TZOFFSETTO:-0300
END:STANDARD
END:VTIMEZONE
END:VCALENDAR
