BEGIN:VCALENDAR
VERSION:2.0
PRODID:-//Plone.org//NONSGML plone.app.event//EN
X-WR-TIMEZONE:America/Buenos_Aires
BEGIN:VEVENT
SUMMARY:Live MAC + UNILA na 20ª SNM: O poder da cooperação
DTSTART;TZID=America/Buenos_Aires;VALUE=DATE-TIME:20220519T190000
DTEND;TZID=America/Buenos_Aires;VALUE=DATE-TIME:20220519T220000
DTSTAMP;VALUE=DATE-TIME:20260423T224852Z
UID:de530e7bde8d4599beaf69347e8a837a@portal.unila.edu.br
CONTACT:https://www.youtube.com/watch?v=aY6IpbQc_UU
CREATED;VALUE=DATE-TIME:20220517T173750Z
DESCRIPTION:Live de lançamento vai reunir representantes da UNILA e do MA
 C para falarem sobre a cooperação como forma de fortalecimento e expans
 ão das práticas museais para além dos espaços institucionais e territo
 riais
LAST-MODIFIED;VALUE=DATE-TIME:20220517T173803Z
LOCATION:Online
URL:https://portal.unila.edu.br/eventos/live-mac-unila-na-20a-snm-o-poder-
 da-cooperacao
END:VEVENT
BEGIN:VTIMEZONE
TZID:America/Buenos_Aires
X-LIC-LOCATION:America/Buenos_Aires
BEGIN:STANDARD
DTSTART;VALUE=DATE-TIME:20090314T230000
TZNAME:ART
TZOFFSETFROM:-0200
TZOFFSETTO:-0300
END:STANDARD
END:VTIMEZONE
END:VCALENDAR
