BEGIN:VCALENDAR
VERSION:2.0
PRODID:-//Plone.org//NONSGML plone.app.event//EN
X-WR-TIMEZONE:America/Buenos_Aires
BEGIN:VEVENT
SUMMARY:Live: lançamento do livro “Cinelatino – Imagens da América L
 atina a serem decifradas”
DTSTART;TZID=America/Sao_Paulo;VALUE=DATE-TIME:20201204T190000
DTEND;TZID=America/Sao_Paulo;VALUE=DATE-TIME:20201204T210000
DTSTAMP;VALUE=DATE-TIME:20260423T230432Z
UID:d802e2c4a6b54c7ea9e9c82c51fdc76c@portal.unila.edu.br
CREATED;VALUE=DATE-TIME:20201130T163705Z
DESCRIPTION:Obra será lançada na próxima sexta-feira (4)\, às 19h
LAST-MODIFIED;VALUE=DATE-TIME:20201130T171208Z
URL:https://portal.unila.edu.br/eventos/live-lancamento-do-livro-201ccinel
 atino-2013-imagens-da-america-latina-a-serem-decifradas201d
END:VEVENT
BEGIN:VTIMEZONE
TZID:America/Sao_Paulo
X-LIC-LOCATION:America/Sao_Paulo
BEGIN:DAYLIGHT
DTSTART;VALUE=DATE-TIME:20201018T010000
TZNAME:BRST
TZOFFSETFROM:-0300
TZOFFSETTO:-0200
END:DAYLIGHT
END:VTIMEZONE
END:VCALENDAR
