BEGIN:VCALENDAR
VERSION:2.0
PRODID:-//Plone.org//NONSGML plone.app.event//EN
X-WR-TIMEZONE:America/Buenos_Aires
BEGIN:VEVENT
SUMMARY:Live: "Epidemiologia e vigilância das lesões autoprovocadas e do
  suicídio"
DTSTART;TZID=America/Sao_Paulo;VALUE=DATE-TIME:20200929T180000
DTEND;TZID=America/Sao_Paulo;VALUE=DATE-TIME:20200929T200000
DTSTAMP;VALUE=DATE-TIME:20260422T223727Z
UID:250841245de844ad989124c11e107a1c@portal.unila.edu.br
CREATED;VALUE=DATE-TIME:20200922T135136Z
DESCRIPTION:Atividade organizada pelo Coletivo de Saúde Mental da UNILA s
 erá no dia 29 de setembro\, às 18h
LAST-MODIFIED;VALUE=DATE-TIME:20200924T125033Z
URL:https://portal.unila.edu.br/eventos/live-epidemiologia-e-vigilancia-da
 s-lesoes-autoprovocadas-e-do-suicidio
END:VEVENT
BEGIN:VTIMEZONE
TZID:America/Sao_Paulo
X-LIC-LOCATION:America/Sao_Paulo
BEGIN:STANDARD
DTSTART;VALUE=DATE-TIME:20200215T230000
TZNAME:BRT
TZOFFSETFROM:-0200
TZOFFSETTO:-0300
END:STANDARD
END:VTIMEZONE
END:VCALENDAR
