BEGIN:VCALENDAR
VERSION:2.0
PRODID:-//Plone.org//NONSGML plone.app.event//EN
X-WR-TIMEZONE:America/Buenos_Aires
BEGIN:VEVENT
SUMMARY:Live: "Diferenças entre ensino remoto\, educação a distância e
  educação híbrida e o uso de plataformas digitais"
DTSTART;TZID=America/Sao_Paulo;VALUE=DATE-TIME:20200819T161500
DTEND;TZID=America/Sao_Paulo;VALUE=DATE-TIME:20200819T171500
DTSTAMP;VALUE=DATE-TIME:20260423T164026Z
UID:a3e8d7e4bc33412287f4d812d94b9c17@portal.unila.edu.br
CREATED;VALUE=DATE-TIME:20200813T164424Z
DESCRIPTION:Atividade será no dia 19 de agosto e integra o 1º Ciclo de V
 ivências Formativas
LAST-MODIFIED;VALUE=DATE-TIME:20200813T164603Z
URL:https://portal.unila.edu.br/eventos/live-diferencas-entre-ensino-remot
 o-educacao-a-distancia-e-educacao-hibrida-e-o-uso-de-plataformas-digitais
END:VEVENT
BEGIN:VTIMEZONE
TZID:America/Sao_Paulo
X-LIC-LOCATION:America/Sao_Paulo
BEGIN:STANDARD
DTSTART;VALUE=DATE-TIME:20200215T230000
TZNAME:BRT
TZOFFSETFROM:-0200
TZOFFSETTO:-0300
END:STANDARD
END:VTIMEZONE
END:VCALENDAR
