BEGIN:VCALENDAR
VERSION:2.0
PRODID:-//Plone.org//NONSGML plone.app.event//EN
X-WR-TIMEZONE:America/Buenos_Aires
BEGIN:VEVENT
SUMMARY:Live: "Compor a literatura: um trabalho editorial"
DTSTART;TZID=America/Sao_Paulo;VALUE=DATE-TIME:20211103T190000
DTEND;TZID=America/Sao_Paulo;VALUE=DATE-TIME:20211103T203000
DTSTAMP;VALUE=DATE-TIME:20260425T084756Z
UID:46e7b8be84cd4e66879deefa86f10247@portal.unila.edu.br
CATEGORIES:mestrado literatura
CREATED;VALUE=DATE-TIME:20211029T181408Z
DESCRIPTION:Organizado pelo PPGLC\, evento será nesta quarta-feira (3)\, 
 às 19h
LAST-MODIFIED;VALUE=DATE-TIME:20211103T122736Z
URL:https://portal.unila.edu.br/eventos/live-compor-a-literatura-um-trabal
 ho-editorial
END:VEVENT
BEGIN:VTIMEZONE
TZID:America/Sao_Paulo
X-LIC-LOCATION:America/Sao_Paulo
BEGIN:DAYLIGHT
DTSTART;VALUE=DATE-TIME:20211017T010000
TZNAME:BRST
TZOFFSETFROM:-0300
TZOFFSETTO:-0200
END:DAYLIGHT
END:VTIMEZONE
END:VCALENDAR
