BEGIN:VCALENDAR
VERSION:2.0
PRODID:-//Plone.org//NONSGML plone.app.event//EN
X-WR-TIMEZONE:America/Buenos_Aires
BEGIN:VEVENT
SUMMARY:Live: Anúncio de Projetos Selecionados pelo Programa de Extensão
  em Sustentabilidade Territorial
DTSTART;TZID=America/Buenos_Aires;VALUE=DATE-TIME:20240821T151500
DTSTAMP;VALUE=DATE-TIME:20260423T225206Z
UID:372e98985f4e4b1994a198799597f0da@portal.unila.edu.br
CONTACT:https://www.youtube.com/live/1SY9CGmkDlw
CREATED;VALUE=DATE-TIME:20240821T122105Z
DESCRIPTION:Programa de Extensão em Sustentabilidade Territorial anuncia\
 , nesta quarta-feira (21)\, projetos selecionados.
LAST-MODIFIED;VALUE=DATE-TIME:20240821T122111Z
LOCATION:Remoto
URL:https://portal.unila.edu.br/eventos/live-anuncio-de-projetos-seleciona
 dos-pelo-programa-de-extensao-em-sustentabilidade-territorial
END:VEVENT
BEGIN:VTIMEZONE
TZID:America/Buenos_Aires
X-LIC-LOCATION:America/Buenos_Aires
BEGIN:STANDARD
DTSTART;VALUE=DATE-TIME:20090314T230000
TZNAME:ART
TZOFFSETFROM:-0200
TZOFFSETTO:-0300
END:STANDARD
END:VTIMEZONE
END:VCALENDAR
