BEGIN:VCALENDAR
VERSION:2.0
PRODID:-//Plone.org//NONSGML plone.app.event//EN
X-WR-TIMEZONE:America/Buenos_Aires
BEGIN:VEVENT
SUMMARY:Live: “Subjetividades\, saberes e vínculos na Educação Superi
 or”
DTSTART;TZID=America/Sao_Paulo;VALUE=DATE-TIME:20201110T160000
DTEND;TZID=America/Sao_Paulo;VALUE=DATE-TIME:20201110T170000
DTSTAMP;VALUE=DATE-TIME:20260422T014448Z
UID:64e9c22d52004e8a99d1018b903d2f55@portal.unila.edu.br
CREATED;VALUE=DATE-TIME:20201021T151711Z
DESCRIPTION:Atividade será no dia 10 de novembro\, às 16h\, e integra o 
 2º Ciclo de Vivências Formativas da UNILA
LAST-MODIFIED;VALUE=DATE-TIME:20201023T135926Z
URL:https://portal.unila.edu.br/eventos/live-201csubjetividades-saberes-e-
 vinculos-na-educacao-superior201d
END:VEVENT
BEGIN:VTIMEZONE
TZID:America/Sao_Paulo
X-LIC-LOCATION:America/Sao_Paulo
BEGIN:DAYLIGHT
DTSTART;VALUE=DATE-TIME:20201018T010000
TZNAME:BRST
TZOFFSETFROM:-0300
TZOFFSETTO:-0200
END:DAYLIGHT
END:VTIMEZONE
END:VCALENDAR
