BEGIN:VCALENDAR
VERSION:2.0
PRODID:-//Plone.org//NONSGML plone.app.event//EN
X-WR-TIMEZONE:America/Buenos_Aires
BEGIN:VEVENT
SUMMARY:Live: “Políticas linguísticas e educacionais em espaços multi
 língues de fronteira”
DTSTART;TZID=America/Sao_Paulo;VALUE=DATE-TIME:20200910T183000
DTEND;TZID=America/Sao_Paulo;VALUE=DATE-TIME:20200910T200000
DTSTAMP;VALUE=DATE-TIME:20260425T084754Z
UID:644e7957e74c4532bf0d641727f2b35b@portal.unila.edu.br
CATEGORIES:mestrado estudos latino-americanos
CREATED;VALUE=DATE-TIME:20200908T135328Z
DESCRIPTION:Atividade desta quinta-feira (10) faz parte do ciclo “Identi
 dade IELA”
LAST-MODIFIED;VALUE=DATE-TIME:20200908T140006Z
URL:https://portal.unila.edu.br/eventos/live-201cpoliticas-linguisticas-e-
 educacionais-em-espacos-multilingues-de-fronteira201d
END:VEVENT
BEGIN:VTIMEZONE
TZID:America/Sao_Paulo
X-LIC-LOCATION:America/Sao_Paulo
BEGIN:STANDARD
DTSTART;VALUE=DATE-TIME:20200215T230000
TZNAME:BRT
TZOFFSETFROM:-0200
TZOFFSETTO:-0300
END:STANDARD
END:VTIMEZONE
END:VCALENDAR
