BEGIN:VCALENDAR
VERSION:2.0
PRODID:-//Plone.org//NONSGML plone.app.event//EN
X-WR-TIMEZONE:America/Buenos_Aires
BEGIN:VEVENT
SUMMARY:Live: “Guias alimentares na América Latina”
DTSTART;TZID=America/Sao_Paulo;VALUE=DATE-TIME:20200716T110000
DTEND;TZID=America/Sao_Paulo;VALUE=DATE-TIME:20200716T130000
DTSTAMP;VALUE=DATE-TIME:20260423T225833Z
UID:f1e30e95166945c49d822ae4eb937529@portal.unila.edu.br
CREATED;VALUE=DATE-TIME:20200715T194812Z
DESCRIPTION:Atividade que será nesta quinta-feira (16) apresentará os gu
 ias alimentares do Chile e de Honduras
LAST-MODIFIED;VALUE=DATE-TIME:20200715T195816Z
URL:https://portal.unila.edu.br/eventos/live-201cguias-alimentares-na-amer
 ica-latina201d
END:VEVENT
BEGIN:VTIMEZONE
TZID:America/Sao_Paulo
X-LIC-LOCATION:America/Sao_Paulo
BEGIN:STANDARD
DTSTART;VALUE=DATE-TIME:20200215T230000
TZNAME:BRT
TZOFFSETFROM:-0200
TZOFFSETTO:-0300
END:STANDARD
END:VTIMEZONE
END:VCALENDAR
