BEGIN:VCALENDAR
VERSION:2.0
PRODID:-//Plone.org//NONSGML plone.app.event//EN
X-WR-TIMEZONE:America/Buenos_Aires
BEGIN:VEVENT
SUMMARY:Live: “Guias alimentares na América Latina”
DTSTART;TZID=America/Sao_Paulo;VALUE=DATE-TIME:20200730T110000
DTEND;TZID=America/Sao_Paulo;VALUE=DATE-TIME:20200730T130000
DTSTAMP;VALUE=DATE-TIME:20260423T074516Z
UID:cb847d4d2fcc44ec8ef7d8f8f1d523bf@portal.unila.edu.br
CREATED;VALUE=DATE-TIME:20200715T195128Z
DESCRIPTION:Atividade que apresentará os guias alimentares da Argentina e
  do Paraguai será no dia 30 de julho
LAST-MODIFIED;VALUE=DATE-TIME:20200715T195705Z
URL:https://portal.unila.edu.br/eventos/live-201cguias-alimentares-na-amer
 ica-latina201d-1
END:VEVENT
BEGIN:VTIMEZONE
TZID:America/Sao_Paulo
X-LIC-LOCATION:America/Sao_Paulo
BEGIN:STANDARD
DTSTART;VALUE=DATE-TIME:20200215T230000
TZNAME:BRT
TZOFFSETFROM:-0200
TZOFFSETTO:-0300
END:STANDARD
END:VTIMEZONE
END:VCALENDAR
