BEGIN:VCALENDAR
VERSION:2.0
PRODID:-//Plone.org//NONSGML plone.app.event//EN
X-WR-TIMEZONE:America/Buenos_Aires
BEGIN:VEVENT
SUMMARY:Live: “Direitos autorais no Ensino Remoto Emergencial”
DTSTART;TZID=America/Sao_Paulo;VALUE=DATE-TIME:20201029T160000
DTEND;TZID=America/Sao_Paulo;VALUE=DATE-TIME:20201029T170000
DTSTAMP;VALUE=DATE-TIME:20260422T014523Z
UID:ae84ab5dbc324718bb25d4d38d14eee6@portal.unila.edu.br
CREATED;VALUE=DATE-TIME:20201021T151246Z
DESCRIPTION:Atividade será no dia 29 de outubro\, às 16h\, e integra o 2
 º Ciclo de Vivências Formativas da UNILA
LAST-MODIFIED;VALUE=DATE-TIME:20201022T124358Z
URL:https://portal.unila.edu.br/eventos/live-201cdireitos-autorais-no-ensi
 no-remoto-emergencial201d
END:VEVENT
BEGIN:VTIMEZONE
TZID:America/Sao_Paulo
X-LIC-LOCATION:America/Sao_Paulo
BEGIN:DAYLIGHT
DTSTART;VALUE=DATE-TIME:20201018T010000
TZNAME:BRST
TZOFFSETFROM:-0300
TZOFFSETTO:-0200
END:DAYLIGHT
END:VTIMEZONE
END:VCALENDAR
