BEGIN:VCALENDAR
VERSION:2.0
PRODID:-//Plone.org//NONSGML plone.app.event//EN
X-WR-TIMEZONE:America/Buenos_Aires
BEGIN:VEVENT
SUMMARY:Live: “Avaliação da aprendizagem na Educação Superior em um 
 contexto não presencial”
DTSTART;TZID=America/Sao_Paulo;VALUE=DATE-TIME:20201117T160000
DTEND;TZID=America/Sao_Paulo;VALUE=DATE-TIME:20201117T170000
DTSTAMP;VALUE=DATE-TIME:20260422T014624Z
UID:5477517648054952a2e0dfec6f65d55b@portal.unila.edu.br
CREATED;VALUE=DATE-TIME:20201021T152015Z
DESCRIPTION:Atividade será no dia 17 de novembro\, às 16h\, e integra o 
 2º Ciclo de Vivências Formativas da UNILA
LAST-MODIFIED;VALUE=DATE-TIME:20201023T140043Z
URL:https://portal.unila.edu.br/eventos/live-201cavaliacao-da-aprendizagem
 -na-educacao-superior-em-um-contexto-nao-presencial201d
END:VEVENT
BEGIN:VTIMEZONE
TZID:America/Sao_Paulo
X-LIC-LOCATION:America/Sao_Paulo
BEGIN:DAYLIGHT
DTSTART;VALUE=DATE-TIME:20201018T010000
TZNAME:BRST
TZOFFSETFROM:-0300
TZOFFSETTO:-0200
END:DAYLIGHT
END:VTIMEZONE
END:VCALENDAR
