BEGIN:VCALENDAR
VERSION:2.0
PRODID:-//Plone.org//NONSGML plone.app.event//EN
X-WR-TIMEZONE:America/Buenos_Aires
BEGIN:VEVENT
SUMMARY:Leitura Coletiva Conficcionamentos
DTSTART;TZID=America/Buenos_Aires;VALUE=DATE-TIME:20220521T183000
DTEND;TZID=America/Buenos_Aires;VALUE=DATE-TIME:20220521T210000
DTSTAMP;VALUE=DATE-TIME:20260423T200819Z
UID:9d9afcc2c9dc408c9940ea61aa109db6@portal.unila.edu.br
CREATED;VALUE=DATE-TIME:20220517T173204Z
DESCRIPTION:Apresentação do Livro-Catálogo de escritas literárias: \n"
 Conficcionamientos: coletivo de invenção literária e artística em temp
 os pandêmicos"
LAST-MODIFIED;VALUE=DATE-TIME:20220517T173208Z
LOCATION:Biblioteca "BIJI" Rua N\, 56 - Conj. C\, Foz do Iguaçu.
URL:https://portal.unila.edu.br/eventos/leitura-coletiva-conficcionamentos
END:VEVENT
BEGIN:VTIMEZONE
TZID:America/Buenos_Aires
X-LIC-LOCATION:America/Buenos_Aires
BEGIN:STANDARD
DTSTART;VALUE=DATE-TIME:20090314T230000
TZNAME:ART
TZOFFSETFROM:-0200
TZOFFSETTO:-0300
END:STANDARD
END:VTIMEZONE
END:VCALENDAR
