BEGIN:VCALENDAR
VERSION:2.0
PRODID:-//Plone.org//NONSGML plone.app.event//EN
X-WR-TIMEZONE:America/Buenos_Aires
BEGIN:VEVENT
SUMMARY:Lançamento E-book: Extensão e Pandemia
DTSTART;TZID=America/Buenos_Aires;VALUE=DATE-TIME:20220317T180000
DTEND;TZID=America/Buenos_Aires;VALUE=DATE-TIME:20220317T200000
DTSTAMP;VALUE=DATE-TIME:20260423T085428Z
UID:fe4eac5b4c3d48b697c8360b3c5ad6b9@portal.unila.edu.br
CREATED;VALUE=DATE-TIME:20220315T161618Z
DESCRIPTION:A exposição aborda atividades de extensionistas no primeiro 
 ano de pandemia.
LAST-MODIFIED;VALUE=DATE-TIME:20220315T161629Z
LOCATION:Biblioteca da Infância e da Juventude Iguaçuense
URL:https://portal.unila.edu.br/eventos/lancamento-e-book-extensao-e-pande
 mia
END:VEVENT
BEGIN:VTIMEZONE
TZID:America/Buenos_Aires
X-LIC-LOCATION:America/Buenos_Aires
BEGIN:STANDARD
DTSTART;VALUE=DATE-TIME:20090314T230000
TZNAME:ART
TZOFFSETFROM:-0200
TZOFFSETTO:-0300
END:STANDARD
END:VTIMEZONE
END:VCALENDAR
