BEGIN:VCALENDAR
VERSION:2.0
PRODID:-//Plone.org//NONSGML plone.app.event//EN
X-WR-TIMEZONE:America/Buenos_Aires
BEGIN:VEVENT
SUMMARY:Lançamento dos livros “Donde hay agua” e “Monte\, trama e t
 repadeira”
DTSTART;TZID=America/Buenos_Aires;VALUE=DATE-TIME:20241207T190000
DTSTAMP;VALUE=DATE-TIME:20260423T201922Z
UID:314aef42da714260a907d90ea7b6d839@portal.unila.edu.br
CREATED;VALUE=DATE-TIME:20241202T133213Z
DESCRIPTION:Tertúlia de lançamento das obras será realizada no próximo
  sábado\, dia 7 de dezembro\, no Quixote Espaço Cultural
LAST-MODIFIED;VALUE=DATE-TIME:20241202T133340Z
URL:https://portal.unila.edu.br/eventos/lancamento-dos-livros-donde-hay-ag
 ua-e-monte-trama-e-trepadeira
END:VEVENT
BEGIN:VTIMEZONE
TZID:America/Buenos_Aires
X-LIC-LOCATION:America/Buenos_Aires
BEGIN:STANDARD
DTSTART;VALUE=DATE-TIME:20090314T230000
TZNAME:ART
TZOFFSETFROM:-0200
TZOFFSETTO:-0300
END:STANDARD
END:VTIMEZONE
END:VCALENDAR
